BEGIN:VCALENDAR
VERSION:2.0
CALSCALE:GREGORIAN
BEGIN:VEVENT
URL:https://www.learndesk.us/class-he/5392492964872192/lesson/24fda76c025402eb3063ad1721a1a68d?ref=outlook-calendar
SUMMARY:בניית אולפן לצילום ביתי-אלי קליין
DTSTART;TZID=America/Los_Angeles:20260424T190000
DTEND;TZID=America/Los_Angeles:20260424T200000
LOCATION:https://www.learndesk.us/class-he/5392492964872192/lesson/24fda76c025402eb3063ad1721a1a68d?ref=outlook-calendar
DESCRIPTION: https://www.learndesk.us/class-he/5392492964872192/lesson/24fda76c025402eb3063ad1721a1a68d?ref=outlook-calendar
STATUS:CONFIRMED
SEQUENCE:3
BEGIN:VALARM
TRIGGER:-PT10M
DESCRIPTION:Class Reminder
ACTION:DISPLAY
END:VALARM
END:VEVENT
END:VCALENDAR