BEGIN:VCALENDAR
VERSION:2.0
CALSCALE:GREGORIAN
BEGIN:VEVENT
URL:https://www.learndesk.us/class-he/5392492964872192/tm-hprzntvrym-shl-h-sq-shlkm-hnvskhh-lvydv-shyvvqy-pqtyby?ref=outlook-calendar
SUMMARY:אתם הפרזנטורים של העסק שלכם: הנוסחה לוידאו שיווקי אפקטיבי
DTSTART;TZID=America/Los_Angeles:20260423T190000
DTEND;TZID=America/Los_Angeles:20260423T200000
LOCATION:https://www.learndesk.us/class-he/5392492964872192/tm-hprzntvrym-shl-h-sq-shlkm-hnvskhh-lvydv-shyvvqy-pqtyby?ref=outlook-calendar
DESCRIPTION: 
הי, שמי מיכל מגן ואני מאמנת בעלי עסקים להופעה מול מצלמה.
המטרה שלי היא לעזור לכם להגשים את עצמכם,
להסיר את הפחדים ולהביא אתכם לקדמת הבמה העסקית.
ההצלחה שלכם היא ההצלחה שלי. את הצעד הראשון כבר עשיתם.
כעת אני מזמינה אתכם להשתתף בקורס המלא להפקת וודיאו שיווקי אפקטיבי
שיאפשר לכם לקחת את העסק שלכם קדימה.
יצרתי את הקורס הזה, במיוחד לכם בעלי העסקים שמבינים את העוצמה של פרסום
ושיווק דרך וידאו, אבל מרגע ההחלטה לצלם וידאו שיווקי ועד המימוש יש מחסום שתוקע אתכם במקום.
חלק לא רואים עצמם עומדים בפרונט של העסק שלהם, מרגישים לא ייצוגיים, לא יודעים מאיפה להתחיל,
כיצד לדבר נכון מול המצלמה, כיצד להעביר את המסר באופן יעיל וחוששים האם מישהו בכלל יקשיב ויתחבר
למה שיש להם להגיד?
עבור אחרים, הפחד מלעמוד מול מצלמה כל כך משתק, עד שהם מעדיפים להישאר
באזור הנוחות ולוותר.
גם אני הייתי שם, גם עבורי היעד נראה רחוק ולא ידעתי מאיפה להתחיל. כדי להתמודד
עם הפחד, הלכתי ללמוד הנחיית קבוצות, אח"כ לימודי משחק בבית צבי, והבאתי את הידע שצברתי מעולם
הבמה לעולם העסקים.
השילוב בין שני העולמות, אפשר לי ליצור פורמולה מנצחת...

https://www.learndesk.us/class-he/5392492964872192/tm-hprzntvrym-shl-h-sq-shlkm-hnvskhh-lvydv-shyvvqy-pqtyby?ref=outlook-calendar
STATUS:CONFIRMED
SEQUENCE:3
BEGIN:VALARM
TRIGGER:-PT10M
DESCRIPTION:Class Reminder
ACTION:DISPLAY
END:VALARM
END:VEVENT
END:VCALENDAR