BEGIN:VCALENDAR
VERSION:2.0
CALSCALE:GREGORIAN
BEGIN:VEVENT
URL:https://www.learndesk.us/class-he/5284905846046720/lesson/c3bc54c00d155245dbc4792e3106a911?ref=outlook-calendar
SUMMARY:דיקציה ועברית נכונה
DTSTART;TZID=America/Los_Angeles:20260422T190000
DTEND;TZID=America/Los_Angeles:20260422T200000
LOCATION:https://www.learndesk.us/class-he/5284905846046720/lesson/c3bc54c00d155245dbc4792e3106a911?ref=outlook-calendar
DESCRIPTION: https://www.learndesk.us/class-he/5284905846046720/lesson/c3bc54c00d155245dbc4792e3106a911?ref=outlook-calendar
STATUS:CONFIRMED
SEQUENCE:3
BEGIN:VALARM
TRIGGER:-PT10M
DESCRIPTION:Class Reminder
ACTION:DISPLAY
END:VALARM
END:VEVENT
END:VCALENDAR