BEGIN:VCALENDAR
VERSION:2.0
CALSCALE:GREGORIAN
BEGIN:VEVENT
URL:https://www.learndesk.us/class-he/5284905846046720/shymvsh-bqvl-kkly-mkyrh?ref=outlook-calendar
SUMMARY:שימוש בקול ככלי מכירה
DTSTART;TZID=America/Los_Angeles:20260422T190000
DTEND;TZID=America/Los_Angeles:20260422T200000
LOCATION:https://www.learndesk.us/class-he/5284905846046720/shymvsh-bqvl-kkly-mkyrh?ref=outlook-calendar
DESCRIPTION: 
הזמנתם קהל להדרכה אינטרנטית (וובינר), העברתם את התוכן שלכם בצורה מדהימה,
ואז הגיע הרגע הגורלי שחששתם ממנו לכל אורך ההדרכה - 
מעמד המכירה!
אתם מתחילים לגמגם, שותים עוד לגימה מבקבוק המים ועוד לגימה...
אבל פשוט לא מצליחים לדבר!!
מלחיץ, נכון?!
אתם מעבירים וובינרים ומבינים את החשיבות של מעמד המכירה בסופם,
אבל אתם פשוט לא מצליחים לייצר את התוצאות הרצויות...
40% מהמסרים שלנו עוברים באמצעות טון הדיבור שלנו. מכירה ללקוח מתבצעת 90% דרך הרגש ורק 10% דרך השכל. באמצעות הקול נוכל להשפיע על הרגש של המאזינים שלנו.
הקול שלנו הוא אחד המרכיבים החשובים בהעברת המסר. הקול שלנו מעביר רגש, תחושה ומעורר תגובה רגשית בתת המודע אצל המאזין.
אנשים זוכרים יותר תחושות מאשר אינפורמציה. הרגש שתצליחו לעורר אצל המאזינים זה הדבר המרכזי שהם יזכרו.
הקול שלנו הוא אחד המרכיבים של הכריזמה. שימוש נכון בקול יעביר את האנרגיה והכריזמה שלכם ויסחוף את הקהל למגרש הביתי שלכם.
בשונה מהופעה על במה או מול מצלמה, שם שפת הגוף שלנו היא חלק מרכזי כמו :מימיקה, קשר עין, חיוך וכד', בהדרכה אינטרנטית (וובינר) - הקול שלנו הוא המרכיב המרכזי...

https://www.learndesk.us/class-he/5284905846046720/shymvsh-bqvl-kkly-mkyrh?ref=outlook-calendar
STATUS:CONFIRMED
SEQUENCE:3
BEGIN:VALARM
TRIGGER:-PT10M
DESCRIPTION:Class Reminder
ACTION:DISPLAY
END:VALARM
END:VEVENT
END:VCALENDAR