BEGIN:VCALENDAR
VERSION:2.0
CALSCALE:GREGORIAN
BEGIN:VEVENT
URL:https://www.learndesk.us/class-he/4869478099714048/lesson/b5beb494267ff1a36cff58d1f504de2c?ref=outlook-calendar
SUMMARY:טיפים כלליים ואיך להתבלט בראיון
DTSTART;TZID=America/Los_Angeles:20260422T190000
DTEND;TZID=America/Los_Angeles:20260422T200000
LOCATION:https://www.learndesk.us/class-he/4869478099714048/lesson/b5beb494267ff1a36cff58d1f504de2c?ref=outlook-calendar
DESCRIPTION: https://www.learndesk.us/class-he/4869478099714048/lesson/b5beb494267ff1a36cff58d1f504de2c?ref=outlook-calendar
STATUS:CONFIRMED
SEQUENCE:3
BEGIN:VALARM
TRIGGER:-PT10M
DESCRIPTION:Class Reminder
ACTION:DISPLAY
END:VALARM
END:VEVENT
END:VCALENDAR