BEGIN:VCALENDAR
VERSION:2.0
CALSCALE:GREGORIAN
BEGIN:VEVENT
URL:https://www.learndesk.us/class-he/4869478099714048/lesson/94042980f1af47ba51564b62c4e7ea9f?ref=outlook-calendar
SUMMARY:תקשורת בלתי מילולית
DTSTART;TZID=America/Los_Angeles:20260422T190000
DTEND;TZID=America/Los_Angeles:20260422T200000
LOCATION:https://www.learndesk.us/class-he/4869478099714048/lesson/94042980f1af47ba51564b62c4e7ea9f?ref=outlook-calendar
DESCRIPTION: https://www.learndesk.us/class-he/4869478099714048/lesson/94042980f1af47ba51564b62c4e7ea9f?ref=outlook-calendar
STATUS:CONFIRMED
SEQUENCE:3
BEGIN:VALARM
TRIGGER:-PT10M
DESCRIPTION:Class Reminder
ACTION:DISPLAY
END:VALARM
END:VEVENT
END:VCALENDAR