BEGIN:VCALENDAR
VERSION:2.0
CALSCALE:GREGORIAN
BEGIN:VEVENT
URL:https://www.learndesk.us/class-he/4869478099714048/lesson/122b70ac6fc6800e6303da07943c987c?ref=outlook-calendar
SUMMARY:בונוס:מדיטציה להרגעה לפני הראיון
DTSTART;TZID=America/Los_Angeles:20260422T190000
DTEND;TZID=America/Los_Angeles:20260422T200000
LOCATION:https://www.learndesk.us/class-he/4869478099714048/lesson/122b70ac6fc6800e6303da07943c987c?ref=outlook-calendar
DESCRIPTION: https://www.learndesk.us/class-he/4869478099714048/lesson/122b70ac6fc6800e6303da07943c987c?ref=outlook-calendar
STATUS:CONFIRMED
SEQUENCE:3
BEGIN:VALARM
TRIGGER:-PT10M
DESCRIPTION:Class Reminder
ACTION:DISPLAY
END:VALARM
END:VEVENT
END:VCALENDAR