BEGIN:VCALENDAR
VERSION:2.0
CALSCALE:GREGORIAN
BEGIN:VEVENT
URL:https://www.learndesk.us/class-he/4869478099714048/mdryk-bzq-lryvn-bvdh?ref=outlook-calendar
SUMMARY:מדריך בזק לראיון עבודה
DTSTART;TZID=America/Los_Angeles:20260422T190000
DTEND;TZID=America/Los_Angeles:20260422T200000
LOCATION:https://www.learndesk.us/class-he/4869478099714048/mdryk-bzq-lryvn-bvdh?ref=outlook-calendar
DESCRIPTION: 
היום שחיכיתם לו הגיע, החיים שלכם עומדים להשתנות.
אתם עומדים להתקבל לעבודה שתמיד חלמתם עליה!
אבל רגע אחד... אתם לא לבד!
יש עוד עשרות מתמודדים שמתחרים על אותה המשרה ורוצים אותה בדיוק כמוכם.
רק חלק קטן מכם יעבור את הראיון הראשון ורק אחד יתקבל למשרה.
מה אם סיכויי ההצלחה שלכם היו גדלים מראש ב-50%?
אם אתם ב-א-מ-ת רוצים את המשרה הזו,
אבל חוששים או לא בטוחים ב 100% ביכולתכם,
הקורס הזה הוא בדיוק בשבילכם!

הנה מה שיקרה לכם כשתלמדו את הקורס להצלחה בראיון עבודה:
ü      איך ליצור רושם ראשוני חיובי כבר בשניות הראשונות
ü      מהן הטעויות הנפוצות בראיון עבודה ואיך להימנע מהן
ü      טכניקות לשימוש נכון בקול ובשפת הגוף בזמן הראיון
ü      איך לבלוט מעל המתחרים ולהעלות את הסיכוי שלכם להתקבל לעבודה
ü      הקורס יפחית חששות ופחדים ויכין אתכם לאתגרים שעשויים לעלות בזמן הראיון
ü      תעלו את הסיכויים שלכם להצליח בראיון עבודה ב-50%!
כי ידע זה כוח,
וכוח זה בטחון!

בקורס "מדריך בזק להצלחה בראיון עבודה" :
נלמד אתכם את הנוסחה השלמה והמושלמת להצלחה בראיון בעבודה!
תקבלנו מאיתנו את כל הכלים שעובדים ואת כל השיטות...

https://www.learndesk.us/class-he/4869478099714048/mdryk-bzq-lryvn-bvdh?ref=outlook-calendar
STATUS:CONFIRMED
SEQUENCE:3
BEGIN:VALARM
TRIGGER:-PT10M
DESCRIPTION:Class Reminder
ACTION:DISPLAY
END:VALARM
END:VEVENT
END:VCALENDAR