BEGIN:VCALENDAR
VERSION:2.0
CALSCALE:GREGORIAN
BEGIN:VEVENT
URL:https://www.learndesk.us/class-es/5693001391144960/lesson/dae44afff9eb56d8e5fb569e401b8506?ref=outlook-calendar
SUMMARY:Interface
DTSTART;TZID=America/Los_Angeles:20260420T190000
DTEND;TZID=America/Los_Angeles:20260420T200000
LOCATION:https://www.learndesk.us/class-es/5693001391144960/lesson/dae44afff9eb56d8e5fb569e401b8506?ref=outlook-calendar
DESCRIPTION: https://www.learndesk.us/class-es/5693001391144960/lesson/dae44afff9eb56d8e5fb569e401b8506?ref=outlook-calendar
STATUS:CONFIRMED
SEQUENCE:3
BEGIN:VALARM
TRIGGER:-PT10M
DESCRIPTION:Class Reminder
ACTION:DISPLAY
END:VALARM
END:VEVENT
END:VCALENDAR