BEGIN:VCALENDAR
VERSION:2.0
CALSCALE:GREGORIAN
BEGIN:VEVENT
URL:https://www.learndesk.us/class-es/5693001391144960/lesson/d6480030bdc08d70079210b09bae1f0f?ref=outlook-calendar
SUMMARY:Personalización del menú
DTSTART;TZID=America/Los_Angeles:20260420T190000
DTEND;TZID=America/Los_Angeles:20260420T200000
LOCATION:https://www.learndesk.us/class-es/5693001391144960/lesson/d6480030bdc08d70079210b09bae1f0f?ref=outlook-calendar
DESCRIPTION: https://www.learndesk.us/class-es/5693001391144960/lesson/d6480030bdc08d70079210b09bae1f0f?ref=outlook-calendar
STATUS:CONFIRMED
SEQUENCE:3
BEGIN:VALARM
TRIGGER:-PT10M
DESCRIPTION:Class Reminder
ACTION:DISPLAY
END:VALARM
END:VEVENT
END:VCALENDAR