BEGIN:VCALENDAR
VERSION:2.0
CALSCALE:GREGORIAN
BEGIN:VEVENT
URL:https://www.learndesk.us/class-es/5693001391144960/lesson/1c6c5302a94364b6be336182d07d530d?ref=outlook-calendar
SUMMARY:Puntos de rotura
DTSTART;TZID=America/Los_Angeles:20260422T190000
DTEND;TZID=America/Los_Angeles:20260422T200000
LOCATION:https://www.learndesk.us/class-es/5693001391144960/lesson/1c6c5302a94364b6be336182d07d530d?ref=outlook-calendar
DESCRIPTION: https://www.learndesk.us/class-es/5693001391144960/lesson/1c6c5302a94364b6be336182d07d530d?ref=outlook-calendar
STATUS:CONFIRMED
SEQUENCE:3
BEGIN:VALARM
TRIGGER:-PT10M
DESCRIPTION:Class Reminder
ACTION:DISPLAY
END:VALARM
END:VEVENT
END:VCALENDAR