BEGIN:VCALENDAR
VERSION:2.0
CALSCALE:GREGORIAN
BEGIN:VEVENT
URL:https://www.learndesk.us/class-es/5594154413326336/lesson/d45b9f26a3ff2c43090b549791ba5e88?ref=outlook-calendar
SUMMARY:La sencillez por bandera
DTSTART;TZID=America/Los_Angeles:20260422T190000
DTEND;TZID=America/Los_Angeles:20260422T200000
LOCATION:https://www.learndesk.us/class-es/5594154413326336/lesson/d45b9f26a3ff2c43090b549791ba5e88?ref=outlook-calendar
DESCRIPTION: https://www.learndesk.us/class-es/5594154413326336/lesson/d45b9f26a3ff2c43090b549791ba5e88?ref=outlook-calendar
STATUS:CONFIRMED
SEQUENCE:3
BEGIN:VALARM
TRIGGER:-PT10M
DESCRIPTION:Class Reminder
ACTION:DISPLAY
END:VALARM
END:VEVENT
END:VCALENDAR