BEGIN:VCALENDAR
VERSION:2.0
CALSCALE:GREGORIAN
BEGIN:VEVENT
URL:https://www.learndesk.us/class-es/5594154413326336/lesson/47b9c91840e91e1a1db50ada8a8cfe85?ref=outlook-calendar
SUMMARY:Creando el ambiente
DTSTART;TZID=America/Los_Angeles:20260420T190000
DTEND;TZID=America/Los_Angeles:20260420T200000
LOCATION:https://www.learndesk.us/class-es/5594154413326336/lesson/47b9c91840e91e1a1db50ada8a8cfe85?ref=outlook-calendar
DESCRIPTION: https://www.learndesk.us/class-es/5594154413326336/lesson/47b9c91840e91e1a1db50ada8a8cfe85?ref=outlook-calendar
STATUS:CONFIRMED
SEQUENCE:3
BEGIN:VALARM
TRIGGER:-PT10M
DESCRIPTION:Class Reminder
ACTION:DISPLAY
END:VALARM
END:VEVENT
END:VCALENDAR