BEGIN:VCALENDAR
VERSION:2.0
CALSCALE:GREGORIAN
BEGIN:VEVENT
URL:https://www.learndesk.us/class-es/5594154413326336/lesson/44b1d211166f198289afa94943f9065a?ref=outlook-calendar
SUMMARY:Introducción
DTSTART;TZID=America/Los_Angeles:20260420T190000
DTEND;TZID=America/Los_Angeles:20260420T200000
LOCATION:https://www.learndesk.us/class-es/5594154413326336/lesson/44b1d211166f198289afa94943f9065a?ref=outlook-calendar
DESCRIPTION: Bienvenidx a mi Curso de Escritura Creativa. Te recomiendo descargar el archivo Powerpoint anexo para que puedas seguir mis clases. Espero que te guste y lo disfrutes.

https://www.learndesk.us/class-es/5594154413326336/lesson/44b1d211166f198289afa94943f9065a?ref=outlook-calendar
STATUS:CONFIRMED
SEQUENCE:3
BEGIN:VALARM
TRIGGER:-PT10M
DESCRIPTION:Class Reminder
ACTION:DISPLAY
END:VALARM
END:VEVENT
END:VCALENDAR