BEGIN:VCALENDAR
VERSION:2.0
CALSCALE:GREGORIAN
BEGIN:VEVENT
URL:https://www.learndesk.us/class-es/5527279759261696/lesson/cc98f1853a3dd1339c4331cb462dc63b?ref=outlook-calendar
SUMMARY:Ejercicio 02 / Desvelado de Logo
DTSTART;TZID=America/Los_Angeles:20260422T190000
DTEND;TZID=America/Los_Angeles:20260422T200000
LOCATION:https://www.learndesk.us/class-es/5527279759261696/lesson/cc98f1853a3dd1339c4331cb462dc63b?ref=outlook-calendar
DESCRIPTION: En este Ejercicio pondremos en práctica la fusión de los Track Matte, realizando una animación de desvelado de logo.

https://www.learndesk.us/class-es/5527279759261696/lesson/cc98f1853a3dd1339c4331cb462dc63b?ref=outlook-calendar
STATUS:CONFIRMED
SEQUENCE:3
BEGIN:VALARM
TRIGGER:-PT10M
DESCRIPTION:Class Reminder
ACTION:DISPLAY
END:VALARM
END:VEVENT
END:VCALENDAR