BEGIN:VCALENDAR
VERSION:2.0
CALSCALE:GREGORIAN
BEGIN:VEVENT
URL:https://www.learndesk.us/class-es/4881376903954432/lesson/a84352be1599594dafc8a4c1d10b304c?ref=outlook-calendar
SUMMARY:Test de Los 5 Segundos
DTSTART;TZID=America/Los_Angeles:20260420T190000
DTEND;TZID=America/Los_Angeles:20260420T200000
LOCATION:https://www.learndesk.us/class-es/4881376903954432/lesson/a84352be1599594dafc8a4c1d10b304c?ref=outlook-calendar
DESCRIPTION: https://www.learndesk.us/class-es/4881376903954432/lesson/a84352be1599594dafc8a4c1d10b304c?ref=outlook-calendar
STATUS:CONFIRMED
SEQUENCE:3
BEGIN:VALARM
TRIGGER:-PT10M
DESCRIPTION:Class Reminder
ACTION:DISPLAY
END:VALARM
END:VEVENT
END:VCALENDAR